BEGIN:VCALENDAR
VERSION:2.0
PRODID:calendify.com
BEGIN:VEVENT
UID:calendify-session-98dgnbw8gv3
DTSTART:20191227T151000Z
SEQUENCE:0
TRANSP:OPAQUE
DTEND:20191227T161000Z
URL:https://calendify.com/session/98dgnbw8gv3
LOCATION:Ada
SUMMARY:\"Hacker hin oder her\": Die elektronische Patientenakte kommt!
CLASS:PUBLIC
DESCRIPTION:https://calendify.com/session/98dgnbw8gv3
DTSTAMP:20260424T003407Z
CREATED:20200429T014024Z
LAST-MODIFIED:20200429T014024Z
END:VEVENT
END:VCALENDAR