BEGIN:VCALENDAR
VERSION:2.0
PRODID:calendify.com
BEGIN:VEVENT
UID:calendify-session-98dgnd7YOv3
DTSTART:20241229T104500Z
SEQUENCE:0
TRANSP:OPAQUE
DTEND:20241229T114500Z
URL:https://calendify.com/session/98dgnd7YOv3
LOCATION:Saal X 07
SUMMARY:DLF Interview Kaspesky
CLASS:PUBLIC
DESCRIPTION:https://calendify.com/session/98dgnd7YOv3
DTSTAMP:20260423T150307Z
CREATED:20241229T103004Z
LAST-MODIFIED:20250101T225003Z
END:VEVENT
END:VCALENDAR