BEGIN:VCALENDAR
VERSION:2.0
PRODID:calendify.com
BEGIN:VEVENT
UID:calendify-session-98dgnk5x4v3
DTSTART:20230606T114500Z
SEQUENCE:0
TRANSP:OPAQUE
DTEND:20230606T121500Z
URL:https://calendify.com/session/98dgnk5x4v3
LOCATION:Meet Up Flutgraben
SUMMARY:Meet Up: 5 Schritte zur gerichtlich angeordneten Accountsperre für
  Betroffene digitaler Gewalt
CLASS:PUBLIC
DESCRIPTION:https://calendify.com/session/98dgnk5x4v3
DTSTAMP:20260419T235304Z
CREATED:20230604T163810Z
LAST-MODIFIED:20230606T124212Z
END:VEVENT
END:VCALENDAR