BEGIN:VCALENDAR
VERSION:2.0
PRODID:calendify.com
BEGIN:VEVENT
UID:calendify-session-98dgnkGA4v3
DTSTART:20230610T092000Z
SEQUENCE:0
TRANSP:OPAQUE
DTEND:20230610T102000Z
URL:https://calendify.com/session/98dgnkGA4v3
LOCATION:Medientheater
SUMMARY:How does Radiosonde Telemetry work?
CLASS:PUBLIC
DESCRIPTION:https://calendify.com/session/98dgnkGA4v3
DTSTAMP:20260422T163906Z
CREATED:20230527T091821Z
LAST-MODIFIED:20230611T215002Z
END:VEVENT
END:VCALENDAR