BEGIN:VCALENDAR
VERSION:2.0
PRODID:calendify.com
BEGIN:VEVENT
UID:calendify-session-98dgnkRk4v3
DTSTART:20221227T170000Z
SEQUENCE:0
TRANSP:OPAQUE
DTEND:20221227T171500Z
URL:https://calendify.com/session/98dgnkRk4v3
LOCATION:Bühne
SUMMARY:Opening
CLASS:PUBLIC
DESCRIPTION:https://calendify.com/session/98dgnkRk4v3
DTSTAMP:20260423T115917Z
CREATED:20221221T105332Z
LAST-MODIFIED:20221230T225005Z
END:VEVENT
END:VCALENDAR