BEGIN:VCALENDAR
VERSION:2.0
PRODID:calendify.com
BEGIN:VEVENT
UID:calendify-session-98dgnkam4v3
DTSTART:20230606T141500Z
SEQUENCE:0
TRANSP:OPAQUE
DTEND:20230606T151500Z
URL:https://calendify.com/session/98dgnkam4v3
LOCATION:Workshop Flutgraben
SUMMARY:Digitale Selbstfürsorge: Warum Gender- und Sex-Desinfo so mächtig
  ist und wie wir uns schützen können.
CLASS:PUBLIC
DESCRIPTION:https://calendify.com/session/98dgnkam4v3
DTSTAMP:20260423T162048Z
CREATED:20230604T163805Z
LAST-MODIFIED:20230606T124205Z
END:VEVENT
END:VCALENDAR