BEGIN:VCALENDAR
VERSION:2.0
PRODID:calendify.com
BEGIN:VEVENT
UID:calendify-session-98dgnkkk4v3
DTSTART:20221229T090000Z
SEQUENCE:0
TRANSP:OPAQUE
DTEND:20221229T150000Z
URL:https://calendify.com/session/98dgnkkk4v3
LOCATION:Ausstellungsraum 1 - H2-1.3
SUMMARY:Dazwischen Mischen
CLASS:PUBLIC
DESCRIPTION:https://calendify.com/session/98dgnkkk4v3
DTSTAMP:20260422T164017Z
CREATED:20221222T170031Z
LAST-MODIFIED:20221230T225007Z
END:VEVENT
END:VCALENDAR