BEGIN:VCALENDAR
VERSION:2.0
PRODID:calendify.com
BEGIN:VEVENT
UID:calendify-session-98dgnkpk4v3
DTSTART:20221227T090000Z
SEQUENCE:0
TRANSP:OPAQUE
DTEND:20221227T150000Z
URL:https://calendify.com/session/98dgnkpk4v3
LOCATION:Ausstellungsraum 4 - H2-3.3
SUMMARY:seltsam & klein
CLASS:PUBLIC
DESCRIPTION:https://calendify.com/session/98dgnkpk4v3
DTSTAMP:20260422T234521Z
CREATED:20221222T170030Z
LAST-MODIFIED:20221230T225007Z
END:VEVENT
END:VCALENDAR