BEGIN:VCALENDAR
VERSION:2.0
PRODID:calendify.com
BEGIN:VEVENT
UID:calendify-session-98dgnp25Ov3
DTSTART:20220206T124000Z
SEQUENCE:0
TRANSP:OPAQUE
DTEND:20220206T124500Z
URL:https://calendify.com/session/98dgnp25Ov3
LOCATION:D.matrix
SUMMARY:Decentralized Collaborative Annotations using Matrix
CLASS:PUBLIC
DESCRIPTION:https://calendify.com/session/98dgnp25Ov3
DTSTAMP:20260420T095456Z
CREATED:20220120T214608Z
LAST-MODIFIED:20220206T225004Z
END:VEVENT
END:VCALENDAR