BEGIN:VCALENDAR
VERSION:2.0
PRODID:calendify.com
BEGIN:VEVENT
UID:calendify-session-98dgnp8AOv3
DTSTART:20220521T104500Z
SEQUENCE:0
TRANSP:OPAQUE
DTEND:20220521T124500Z
URL:https://calendify.com/session/98dgnp8AOv3
LOCATION:Ausstellung BioMedien
SUMMARY:Folge dem weißen Kaninchen - ab in die Matrix!
CLASS:PUBLIC
DESCRIPTION:https://calendify.com/session/98dgnp8AOv3
DTSTAMP:20260422T204611Z
CREATED:20220502T005753Z
LAST-MODIFIED:20220521T215002Z
END:VEVENT
END:VCALENDAR