BEGIN:VCALENDAR
VERSION:2.0
PRODID:calendify.com
BEGIN:VEVENT
UID:calendify-session-98dgnpNxOv3
DTSTART:20220608T093000Z
SEQUENCE:0
TRANSP:OPAQUE
DTEND:20220608T100000Z
URL:https://calendify.com/session/98dgnpNxOv3
LOCATION:Stage 4
SUMMARY:LIVE STREAM: Her mit der besseren zukunft!
CLASS:PUBLIC
DESCRIPTION:https://calendify.com/session/98dgnpNxOv3
DTSTAMP:20260424T035833Z
CREATED:20220531T124133Z
LAST-MODIFIED:20220613T235205Z
END:VEVENT
END:VCALENDAR