BEGIN:VCALENDAR
VERSION:2.0
PRODID:calendify.com
BEGIN:VEVENT
UID:calendify-session-98dgnpX5Ov3
DTSTART:20220608T111500Z
SEQUENCE:0
TRANSP:OPAQUE
DTEND:20220608T121500Z
URL:https://calendify.com/session/98dgnpX5Ov3
LOCATION:Hoppetosse: Sonnendeck
SUMMARY:Wieviel Plattformisierung verträgt Public Value? Medienethik für 
 öffentlich-rechtlichen Journalismus in sozialen Netzwerken
CLASS:PUBLIC
DESCRIPTION:https://calendify.com/session/98dgnpX5Ov3
DTSTAMP:20260423T230515Z
CREATED:20220526T162944Z
LAST-MODIFIED:20220613T235204Z
END:VEVENT
END:VCALENDAR