BEGIN:VCALENDAR
VERSION:2.0
PRODID:calendify.com
BEGIN:VEVENT
UID:calendify-session-98dgnpZmOv3
DTSTART:20220608T163000Z
SEQUENCE:0
TRANSP:OPAQUE
DTEND:20220608T173000Z
URL:https://calendify.com/session/98dgnpZmOv3
LOCATION:Makerspace
SUMMARY:KI sucht Praktikumsplatz - Die Professorin Kaffeemaschine
CLASS:PUBLIC
DESCRIPTION:https://calendify.com/session/98dgnpZmOv3
DTSTAMP:20260420T140507Z
CREATED:20220526T162947Z
LAST-MODIFIED:20220613T235204Z
END:VEVENT
END:VCALENDAR