BEGIN:VCALENDAR
VERSION:2.0
PRODID:calendify.com
BEGIN:VEVENT
UID:calendify-session-98dgnpa7Ov3
DTSTART:20220608T183000Z
SEQUENCE:0
TRANSP:OPAQUE
DTEND:20220608T190000Z
URL:https://calendify.com/session/98dgnpa7Ov3
LOCATION:Stage 5
SUMMARY:Le Voyage - An Improvised Artistic Dance Performance Based on a Sea
 rch for Roots
CLASS:PUBLIC
DESCRIPTION:https://calendify.com/session/98dgnpa7Ov3
DTSTAMP:20260423T173419Z
CREATED:20220608T173942Z
LAST-MODIFIED:20220613T235205Z
END:VEVENT
END:VCALENDAR