BEGIN:VCALENDAR
VERSION:2.0
PRODID:calendify.com
BEGIN:VEVENT
UID:calendify-session-98dgnplnOv3
DTSTART:20220521T154500Z
SEQUENCE:0
TRANSP:OPAQUE
DTEND:20220521T161500Z
URL:https://calendify.com/session/98dgnplnOv3
LOCATION:Blauer Salon
SUMMARY:Running personal infrastructure on Kubernetes
CLASS:PUBLIC
DESCRIPTION:https://calendify.com/session/98dgnplnOv3
DTSTAMP:20260422T155918Z
CREATED:20220502T005753Z
LAST-MODIFIED:20220521T215002Z
END:VEVENT
END:VCALENDAR