BEGIN:VCALENDAR
VERSION:2.0
PRODID:calendify.com
BEGIN:VEVENT
UID:calendify-session-98dgnpwnOv3
DTSTART:20220725T210000Z
SEQUENCE:0
TRANSP:OPAQUE
DTEND:20220725T215000Z
URL:https://calendify.com/session/98dgnpwnOv3
LOCATION:Battery 🔋
SUMMARY:illumos SmartOS\, specialized Type 1 Hypervisor
CLASS:PUBLIC
DESCRIPTION:https://calendify.com/session/98dgnpwnOv3
DTSTAMP:20260424T035510Z
CREATED:20220620T212435Z
LAST-MODIFIED:20220726T182703Z
END:VEVENT
END:VCALENDAR