BEGIN:VCALENDAR
VERSION:2.0
PRODID:calendify.com
BEGIN:VEVENT
UID:calendify-session-98dgnpyxOv3
DTSTART:20220609T130000Z
SEQUENCE:0
TRANSP:OPAQUE
DTEND:20220609T133000Z
URL:https://calendify.com/session/98dgnpyxOv3
LOCATION:Stage 1
SUMMARY:How to Fight Authoritarianism – Lessons Learned from Hong Kong
CLASS:PUBLIC
DESCRIPTION:https://calendify.com/session/98dgnpyxOv3
DTSTAMP:20260423T160058Z
CREATED:20220530T102804Z
LAST-MODIFIED:20220613T235204Z
END:VEVENT
END:VCALENDAR