BEGIN:VCALENDAR
VERSION:2.0
PRODID:calendify.com
BEGIN:VEVENT
UID:calendify-session-ADx4v969gGP
DTSTART:20201227T180000Z
SEQUENCE:0
TRANSP:OPAQUE
DTEND:20201227T183000Z
URL:https://calendify.com/session/ADx4v969gGP
LOCATION:Wikipaka
SUMMARY:Introduction to Wikidata
CLASS:PUBLIC
DESCRIPTION:https://calendify.com/session/ADx4v969gGP
DTSTAMP:20260420T225125Z
CREATED:20210111T023303Z
LAST-MODIFIED:20211226T143422Z
END:VEVENT
END:VCALENDAR