BEGIN:VCALENDAR
VERSION:2.0
PRODID:calendify.com
BEGIN:VEVENT
UID:calendify-session-ADx4v9ANgGP
DTSTART:20210207T100000Z
SEQUENCE:0
TRANSP:OPAQUE
DTEND:20210207T104500Z
URL:https://calendify.com/session/ADx4v9ANgGP
LOCATION:D.geospatial
SUMMARY:MoveTK: the movement toolkit
CLASS:PUBLIC
DESCRIPTION:https://calendify.com/session/ADx4v9ANgGP
DTSTAMP:20260423T171737Z
CREATED:20210111T170320Z
LAST-MODIFIED:20210208T224804Z
END:VEVENT
END:VCALENDAR