BEGIN:VCALENDAR
VERSION:2.0
PRODID:calendify.com
BEGIN:VEVENT
UID:calendify-session-ADx4v9QwgGP
DTSTART:20210207T093000Z
SEQUENCE:0
TRANSP:OPAQUE
DTEND:20210207T100000Z
URL:https://calendify.com/session/ADx4v9QwgGP
LOCATION:D.mysql
SUMMARY:Open Source Database Infrastructure with Vitess
CLASS:PUBLIC
DESCRIPTION:https://calendify.com/session/ADx4v9QwgGP
DTSTAMP:20260423T172504Z
CREATED:20210111T170320Z
LAST-MODIFIED:20210208T224804Z
END:VEVENT
END:VCALENDAR