BEGIN:VCALENDAR
VERSION:2.0
PRODID:calendify.com
BEGIN:VEVENT
UID:calendify-session-ADx4v9RNgGP
DTSTART:20210207T122500Z
SEQUENCE:0
TRANSP:OPAQUE
DTEND:20210207T125500Z
URL:https://calendify.com/session/ADx4v9RNgGP
LOCATION:D.declarative.minimalistic
SUMMARY:Making a simple language is complicated
CLASS:PUBLIC
DESCRIPTION:https://calendify.com/session/ADx4v9RNgGP
DTSTAMP:20260419T224851Z
CREATED:20210111T170319Z
LAST-MODIFIED:20210208T224804Z
END:VEVENT
END:VCALENDAR