BEGIN:VCALENDAR
VERSION:2.0
PRODID:calendify.com
BEGIN:VEVENT
UID:calendify-session-ADx4v9aJgGP
DTSTART:20210206T143500Z
SEQUENCE:0
TRANSP:OPAQUE
DTEND:20210206T152000Z
URL:https://calendify.com/session/ADx4v9aJgGP
LOCATION:D.network
SUMMARY:What do we want to monitor? All the databases!
CLASS:PUBLIC
DESCRIPTION:https://calendify.com/session/ADx4v9aJgGP
DTSTAMP:20260419T211901Z
CREATED:20210111T170319Z
LAST-MODIFIED:20210208T224802Z
END:VEVENT
END:VCALENDAR