BEGIN:VCALENDAR
VERSION:2.0
PRODID:calendify.com
BEGIN:VEVENT
UID:calendify-session-ADx4v9m3gGP
DTSTART:20210206T140000Z
SEQUENCE:0
TRANSP:OPAQUE
DTEND:20210206T143000Z
URL:https://calendify.com/session/ADx4v9m3gGP
LOCATION:D.javascript
SUMMARY:BabiaXR: Virtual Reality Data Visualizations using only Front-End
CLASS:PUBLIC
DESCRIPTION:https://calendify.com/session/ADx4v9m3gGP
DTSTAMP:20260423T150445Z
CREATED:20210201T190823Z
LAST-MODIFIED:20210208T224802Z
END:VEVENT
END:VCALENDAR