BEGIN:VCALENDAR
VERSION:2.0
PRODID:calendify.com
BEGIN:VEVENT
UID:calendify-session-ADx4v9owgGP
DTSTART:20210207T103000Z
SEQUENCE:0
TRANSP:OPAQUE
DTEND:20210207T110000Z
URL:https://calendify.com/session/ADx4v9owgGP
LOCATION:D.retro
SUMMARY:ZX Adventure
CLASS:PUBLIC
DESCRIPTION:https://calendify.com/session/ADx4v9owgGP
DTSTAMP:20260420T135121Z
CREATED:20210111T170320Z
LAST-MODIFIED:20210208T224804Z
END:VEVENT
END:VCALENDAR