BEGIN:VCALENDAR
VERSION:2.0
PRODID:calendify.com
BEGIN:VEVENT
UID:calendify-session-ADx4vAvVgGP
DTSTART:20260201T130500Z
SEQUENCE:0
TRANSP:OPAQUE
DTEND:20260201T133000Z
URL:https://calendify.com/session/ADx4vAvVgGP
LOCATION:UA2.220 (Guillissen)
SUMMARY:Modular in the DAW: Cardinal origins\, tips and tricks
CLASS:PUBLIC
DESCRIPTION:https://calendify.com/session/ADx4vAvVgGP
DTSTAMP:20260424T061355Z
CREATED:20260131T063319Z
LAST-MODIFIED:20260201T163232Z
END:VEVENT
END:VCALENDAR