BEGIN:VCALENDAR
VERSION:2.0
PRODID:calendify.com
BEGIN:VEVENT
UID:calendify-session-ADx4vDKVMGP
DTSTART:20180401T160000Z
SEQUENCE:0
TRANSP:OPAQUE
DTEND:20180401T180000Z
URL:https://calendify.com/session/ADx4vDKVMGP
LOCATION:Siebold
SUMMARY:Textilausgabe (Sonntag)
CLASS:PUBLIC
DESCRIPTION:https://calendify.com/session/ADx4vDKVMGP
DTSTAMP:20260423T102111Z
CREATED:20200520T231946Z
LAST-MODIFIED:20200520T231946Z
END:VEVENT
END:VCALENDAR