BEGIN:VCALENDAR
VERSION:2.0
PRODID:calendify.com
BEGIN:VEVENT
UID:calendify-session-ADx4vERJgGP
DTSTART:20240921T121500Z
SEQUENCE:0
TRANSP:OPAQUE
DTEND:20240921T134500Z
URL:https://calendify.com/session/ADx4vERJgGP
LOCATION:Bar
SUMMARY:Bricken Impossible - Betreutes Flashen
CLASS:PUBLIC
DESCRIPTION:https://calendify.com/session/ADx4vERJgGP
DTSTAMP:20260420T233218Z
CREATED:20241208T220338Z
LAST-MODIFIED:20241208T220338Z
END:VEVENT
END:VCALENDAR