BEGIN:VCALENDAR
VERSION:2.0
PRODID:calendify.com
BEGIN:VEVENT
UID:calendify-session-ADx4vNDV4GP
DTSTART:20230721T140000Z
SEQUENCE:0
TRANSP:OPAQUE
DTEND:20230721T150000Z
URL:https://calendify.com/session/ADx4vNDV4GP
LOCATION:woanders
SUMMARY:Schmieden auf der IGER
CLASS:PUBLIC
DESCRIPTION:https://calendify.com/session/ADx4vNDV4GP
DTSTAMP:20260424T002944Z
CREATED:20230806T113705Z
LAST-MODIFIED:20230806T113705Z
END:VEVENT
END:VCALENDAR