BEGIN:VCALENDAR
VERSION:2.0
PRODID:calendify.com
BEGIN:VEVENT
UID:calendify-session-ADx4vNQw4GP
DTSTART:20231229T204500Z
SEQUENCE:0
TRANSP:OPAQUE
DTEND:20231229T214500Z
URL:https://calendify.com/session/ADx4vNQw4GP
LOCATION:Saal 1
SUMMARY:Heimlich-Manöver
CLASS:PUBLIC
DESCRIPTION:https://calendify.com/session/ADx4vNQw4GP
DTSTAMP:20260423T043733Z
CREATED:20231215T204819Z
LAST-MODIFIED:20240401T142932Z
END:VEVENT
END:VCALENDAR