BEGIN:VCALENDAR
VERSION:2.0
PRODID:calendify.com
BEGIN:VEVENT
UID:calendify-session-ADx4vNZV4GP
DTSTART:20231229T163000Z
SEQUENCE:0
TRANSP:OPAQUE
DTEND:20231229T171500Z
URL:https://calendify.com/session/ADx4vNZV4GP
LOCATION:Foyer Level 2 (In front of the elevators left of Stage Y)
SUMMARY:Exchange on self-organization (e.g. Getting Things Done) and procra
 stination
CLASS:PUBLIC
DESCRIPTION:https://calendify.com/session/ADx4vNZV4GP
DTSTAMP:20260423T030637Z
CREATED:20231228T213003Z
LAST-MODIFIED:20240401T142933Z
END:VEVENT
END:VCALENDAR