BEGIN:VCALENDAR
VERSION:2.0
PRODID:calendify.com
BEGIN:VEVENT
UID:calendify-session-ADx4vNrB4GP
DTSTART:20230902T080000Z
SEQUENCE:0
TRANSP:OPAQUE
DTEND:20230902T083000Z
URL:https://calendify.com/session/ADx4vNrB4GP
LOCATION:C120 - Arkanraum
SUMMARY:Breaking Clouds: When the Virtual Sky Falls
CLASS:PUBLIC
DESCRIPTION:https://calendify.com/session/ADx4vNrB4GP
DTSTAMP:20260423T230828Z
CREATED:20240328T132702Z
LAST-MODIFIED:20240328T132702Z
END:VEVENT
END:VCALENDAR