BEGIN:VCALENDAR
VERSION:2.0
PRODID:calendify.com
BEGIN:VEVENT
UID:calendify-session-ADx4vNy94GP
DTSTART:20231228T150000Z
SEQUENCE:0
TRANSP:OPAQUE
DTEND:20231228T163000Z
URL:https://calendify.com/session/ADx4vNy94GP
LOCATION:Round Table [CDC Saal 3]
SUMMARY:Workshop: Self-hosted\, Open Source Chatbots mit der Technologie vo
 n OpenAI: Erfahrungsbericht(e)
CLASS:PUBLIC
DESCRIPTION:https://calendify.com/session/ADx4vNy94GP
DTSTAMP:20260423T003755Z
CREATED:20231227T173003Z
LAST-MODIFIED:20240401T142932Z
END:VEVENT
END:VCALENDAR