BEGIN:VCALENDAR
VERSION:2.0
PRODID:calendify.com
BEGIN:VEVENT
UID:calendify-session-ADx4vYBVgGP
DTSTART:20220724T160000Z
SEQUENCE:0
TRANSP:OPAQUE
DTEND:20220724T170000Z
URL:https://calendify.com/session/ADx4vYBVgGP
LOCATION:Music Stage 🎤
SUMMARY:Breaky breaky
CLASS:PUBLIC
DESCRIPTION:https://calendify.com/session/ADx4vYBVgGP
DTSTAMP:20260423T203417Z
CREATED:20220723T101231Z
LAST-MODIFIED:20220726T182703Z
END:VEVENT
END:VCALENDAR