BEGIN:VCALENDAR
VERSION:2.0
PRODID:calendify.com
BEGIN:VEVENT
UID:calendify-session-ADx4vYpwgGP
DTSTART:20221228T120000Z
SEQUENCE:0
TRANSP:OPAQUE
DTEND:20221228T124500Z
URL:https://calendify.com/session/ADx4vYpwgGP
LOCATION:WICMP Seminarraum
SUMMARY:Das ZAM im Wandel der Zeit
CLASS:PUBLIC
DESCRIPTION:https://calendify.com/session/ADx4vYpwgGP
DTSTAMP:20260424T052806Z
CREATED:20221221T105639Z
LAST-MODIFIED:20221230T225006Z
END:VEVENT
END:VCALENDAR