BEGIN:VCALENDAR
VERSION:2.0
PRODID:calendify.com
BEGIN:VEVENT
UID:calendify-session-ADx4vYrrgGP
DTSTART:20230605T120000Z
SEQUENCE:0
TRANSP:OPAQUE
DTEND:20230605T130000Z
URL:https://calendify.com/session/ADx4vYrrgGP
LOCATION:Home Base
SUMMARY:Perspektive einer Fliege\, gefangen in meinem Zimmer
CLASS:PUBLIC
DESCRIPTION:https://calendify.com/session/ADx4vYrrgGP
DTSTAMP:20260419T223335Z
CREATED:20230604T163803Z
LAST-MODIFIED:20230606T124205Z
END:VEVENT
END:VCALENDAR