BEGIN:VCALENDAR
VERSION:2.0
PRODID:calendify.com
BEGIN:VEVENT
UID:calendify-session-ADx4va0WgGP
DTSTART:20220610T084500Z
SEQUENCE:0
TRANSP:OPAQUE
DTEND:20220610T091500Z
URL:https://calendify.com/session/ADx4va0WgGP
LOCATION:Get a Job-Area
SUMMARY:Hack Ur Culture: Digitale Informationsarbeit am Goethe-Institut!
CLASS:PUBLIC
DESCRIPTION:https://calendify.com/session/ADx4va0WgGP
DTSTAMP:20260423T162108Z
CREATED:20220526T162948Z
LAST-MODIFIED:20220613T235204Z
END:VEVENT
END:VCALENDAR