BEGIN:VCALENDAR
VERSION:2.0
PRODID:calendify.com
BEGIN:VEVENT
UID:calendify-session-ADx4va2VgGP
DTSTART:20220520T181500Z
SEQUENCE:0
TRANSP:OPAQUE
DTEND:20220520T190000Z
URL:https://calendify.com/session/ADx4va2VgGP
LOCATION:Blauer Salon
SUMMARY:Ich möchte online fliegen: Wie geht das?
CLASS:PUBLIC
DESCRIPTION:https://calendify.com/session/ADx4va2VgGP
DTSTAMP:20260420T203016Z
CREATED:20220505T235922Z
LAST-MODIFIED:20220521T215002Z
END:VEVENT
END:VCALENDAR