BEGIN:VCALENDAR
VERSION:2.0
PRODID:calendify.com
BEGIN:VEVENT
UID:calendify-session-ADx4va33gGP
DTSTART:20220724T194000Z
SEQUENCE:0
TRANSP:OPAQUE
DTEND:20220724T201000Z
URL:https://calendify.com/session/ADx4va33gGP
LOCATION:Clairvoyance 🔮
SUMMARY:World in Vectors - Cross-platform Map Rendering using Rust
CLASS:PUBLIC
DESCRIPTION:https://calendify.com/session/ADx4va33gGP
DTSTAMP:20260424T002244Z
CREATED:20220620T212434Z
LAST-MODIFIED:20220726T182703Z
END:VEVENT
END:VCALENDAR