BEGIN:VCALENDAR
VERSION:2.0
PRODID:calendify.com
BEGIN:VEVENT
UID:calendify-session-ADx4va59gGP
DTSTART:20220520T173000Z
SEQUENCE:0
TRANSP:OPAQUE
DTEND:20220520T183000Z
URL:https://calendify.com/session/ADx4va59gGP
LOCATION:Vortragssaal
SUMMARY:HowTo ISP: Netzwerkautomatisierung im Studentenwohnheim
CLASS:PUBLIC
DESCRIPTION:https://calendify.com/session/ADx4va59gGP
DTSTAMP:20260420T170638Z
CREATED:20220502T005752Z
LAST-MODIFIED:20220521T215002Z
END:VEVENT
END:VCALENDAR