BEGIN:VCALENDAR
VERSION:2.0
PRODID:calendify.com
BEGIN:VEVENT
UID:calendify-session-ADx4vaemgGP
DTSTART:20220609T103000Z
SEQUENCE:0
TRANSP:OPAQUE
DTEND:20220609T113000Z
URL:https://calendify.com/session/ADx4vaemgGP
LOCATION:Meetup Red
SUMMARY:Auf Augenhöhe: Beispiele für erfolgreichen Klima- und Artenschutz
  in Afrika und Asien
CLASS:PUBLIC
DESCRIPTION:https://calendify.com/session/ADx4vaemgGP
DTSTAMP:20260423T144844Z
CREATED:20220605T230943Z
LAST-MODIFIED:20220613T235204Z
END:VEVENT
END:VCALENDAR