BEGIN:VCALENDAR
VERSION:2.0
PRODID:calendify.com
BEGIN:VEVENT
UID:calendify-session-ADx4vayrgGP
DTSTART:20220610T091500Z
SEQUENCE:0
TRANSP:OPAQUE
DTEND:20220610T094500Z
URL:https://calendify.com/session/ADx4vayrgGP
LOCATION:Lightning Box 1
SUMMARY:Mit der Smart-eID geht der Online-Ausweis auf das Smartphone – Wi
 rd das der Booster für nutzerfreundliches und sicheres Ausweisen im Netz?
CLASS:PUBLIC
DESCRIPTION:https://calendify.com/session/ADx4vayrgGP
DTSTAMP:20260423T094012Z
CREATED:20220526T162947Z
LAST-MODIFIED:20220613T235204Z
END:VEVENT
END:VCALENDAR