BEGIN:VCALENDAR
VERSION:2.0
PRODID:calendify.com
BEGIN:VEVENT
UID:calendify-session-ADx4vazNgGP
DTSTART:20220608T153000Z
SEQUENCE:0
TRANSP:OPAQUE
DTEND:20220608T160000Z
URL:https://calendify.com/session/ADx4vazNgGP
LOCATION:Lightning Box 1
SUMMARY:Die Macht von Google\, Facebook & Co ist eine Gefahr für die Demok
 ratie – Zeit\, sie zu begrenzen!
CLASS:PUBLIC
DESCRIPTION:https://calendify.com/session/ADx4vazNgGP
DTSTAMP:20260421T123703Z
CREATED:20220526T162945Z
LAST-MODIFIED:20220613T235204Z
END:VEVENT
END:VCALENDAR