BEGIN:VCALENDAR
VERSION:2.0
PRODID:calendify.com
BEGIN:VEVENT
UID:calendify-session-ADx4vp03MGP
DTSTART:20220205T150000Z
SEQUENCE:0
TRANSP:OPAQUE
DTEND:20220205T154000Z
URL:https://calendify.com/session/ADx4vp03MGP
LOCATION:D.openjdk
SUMMARY:Java & Alpaca: A Beautiful Friendship
CLASS:PUBLIC
DESCRIPTION:https://calendify.com/session/ADx4vp03MGP
DTSTAMP:20260420T132248Z
CREATED:20220120T214602Z
LAST-MODIFIED:20220206T225002Z
END:VEVENT
END:VCALENDAR