BEGIN:VCALENDAR
VERSION:2.0
PRODID:calendify.com
BEGIN:VEVENT
UID:calendify-session-ADx4vpAJMGP
DTSTART:20210522T150000Z
SEQUENCE:0
TRANSP:OPAQUE
DTEND:20210522T151000Z
URL:https://calendify.com/session/ADx4vpAJMGP
LOCATION:TINCON
SUMMARY:Deutsch oder nicht deutsch - Das sind doch alles bürgerliche Kateg
 orien
CLASS:PUBLIC
DESCRIPTION:https://calendify.com/session/ADx4vpAJMGP
DTSTAMP:20260423T003857Z
CREATED:20210510T145032Z
LAST-MODIFIED:20210524T215002Z
END:VEVENT
END:VCALENDAR