BEGIN:VCALENDAR
VERSION:2.0
PRODID:calendify.com
BEGIN:VEVENT
UID:calendify-session-ADx4vpWQMGP
DTSTART:20210309T170000Z
SEQUENCE:0
TRANSP:OPAQUE
DTEND:20210309T180000Z
URL:https://calendify.com/session/ADx4vpWQMGP
LOCATION:Zoom Room 5A
SUMMARY:The Role of Tech in a Human Rights and Climate-Resilient Future
CLASS:PUBLIC
DESCRIPTION:https://calendify.com/session/ADx4vpWQMGP
DTSTAMP:20260422T174328Z
CREATED:20210426T094927Z
LAST-MODIFIED:20210426T094927Z
END:VEVENT
END:VCALENDAR