BEGIN:VCALENDAR
VERSION:2.0
PRODID:calendify.com
BEGIN:VEVENT
UID:calendify-session-ADx4vpkBMGP
DTSTART:20220206T142000Z
SEQUENCE:0
TRANSP:OPAQUE
DTEND:20220206T150000Z
URL:https://calendify.com/session/ADx4vpkBMGP
LOCATION:D.openjdk
SUMMARY:Modern Web Apps\, 100% Java: Building Web Apps With Vaadin
CLASS:PUBLIC
DESCRIPTION:https://calendify.com/session/ADx4vpkBMGP
DTSTAMP:20260420T080434Z
CREATED:20220120T214606Z
LAST-MODIFIED:20220206T225004Z
END:VEVENT
END:VCALENDAR