BEGIN:VCALENDAR
VERSION:2.0
PRODID:calendify.com
BEGIN:VEVENT
UID:calendify-session-ADx4vplwMGP
DTSTART:20211227T170000Z
SEQUENCE:0
TRANSP:OPAQUE
DTEND:20211227T180000Z
URL:https://calendify.com/session/ADx4vplwMGP
LOCATION:Haecksen Stream
SUMMARY:Reko\, lets reboot agriculture
CLASS:PUBLIC
DESCRIPTION:https://calendify.com/session/ADx4vplwMGP
DTSTAMP:20260422T110720Z
CREATED:20211220T014016Z
LAST-MODIFIED:20211230T225002Z
END:VEVENT
END:VCALENDAR