BEGIN:VCALENDAR
VERSION:2.0
PRODID:calendify.com
BEGIN:VEVENT
UID:calendify-session-ADx4vpmWMGP
DTSTART:20211228T170000Z
SEQUENCE:0
TRANSP:OPAQUE
DTEND:20211228T180000Z
URL:https://calendify.com/session/ADx4vpmWMGP
LOCATION:Bierscheune
SUMMARY:Planologie-Podcast live
CLASS:PUBLIC
DESCRIPTION:https://calendify.com/session/ADx4vpmWMGP
DTSTAMP:20260420T111008Z
CREATED:20211220T144641Z
LAST-MODIFIED:20211230T225002Z
END:VEVENT
END:VCALENDAR