BEGIN:VCALENDAR
VERSION:2.0
PRODID:calendify.com
BEGIN:VEVENT
UID:calendify-session-ADx4vqRmgGP
DTSTART:20190601T190000Z
SEQUENCE:0
TRANSP:OPAQUE
DTEND:20190601T193000Z
URL:https://calendify.com/session/ADx4vqRmgGP
LOCATION:ZKM_Vortragssaal
SUMMARY:Plenopticam - Open-Source Light Field Photography Software
CLASS:PUBLIC
DESCRIPTION:https://calendify.com/session/ADx4vqRmgGP
DTSTAMP:20260422T022853Z
CREATED:20200509T115122Z
LAST-MODIFIED:20200509T115122Z
END:VEVENT
END:VCALENDAR