BEGIN:VCALENDAR
VERSION:2.0
PRODID:calendify.com
BEGIN:VEVENT
UID:calendify-session-ADx4vqeQgGP
DTSTART:20200202T082000Z
SEQUENCE:0
TRANSP:OPAQUE
DTEND:20200202T084000Z
URL:https://calendify.com/session/ADx4vqeQgGP
LOCATION:AW1.126
SUMMARY:STAC: Search and discovery of geospatial assets
CLASS:PUBLIC
DESCRIPTION:https://calendify.com/session/ADx4vqeQgGP
DTSTAMP:20260420T184305Z
CREATED:20200513T234734Z
LAST-MODIFIED:20210426T093310Z
END:VEVENT
END:VCALENDAR